BEGIN:VCALENDAR
VERSION:2.0
PRODID:-//horsealert.local//NONSGML kigkonsult.se iCalcreator 2.10.5//
CALSCALE:GREGORIAN
X-WR-TIMEZONE:Europe/Dublin
BEGIN:VTIMEZONE
TZID:Etc/GMT-1
BEGIN:STANDARD
DTSTART:20010101T000000
TZOFFSETFROM:+0100
TZOFFSETTO:+0100
TZNAME:GMT +01:00
END:STANDARD
END:VTIMEZONE
BEGIN:VEVENT
UID:20260423T002250CEST-3221v5TmSB@horsealert.local
DTSTAMP:20260422T220450Z
CATEGORIES:Horse Alerts
DESCRIPTION:Heyho Away Wego Andy Bethell Memorial Handicap Hurdle
DTSTART:20160328T163500
LOCATION:England
SUMMARY:Horse Racing:Heyho Away Wego Andy Bethell Memorial Handicap Hurdle
END:VEVENT
END:VCALENDAR
