BEGIN:VCALENDAR
VERSION:2.0
PRODID:-//horsealert.local//NONSGML kigkonsult.se iCalcreator 2.10.5//
CALSCALE:GREGORIAN
X-WR-TIMEZONE:Europe/Dublin
BEGIN:VTIMEZONE
TZID:Etc/GMT-1
BEGIN:STANDARD
DTSTART:20010101T000000
TZOFFSETFROM:+0100
TZOFFSETTO:+0100
TZNAME:GMT +01:00
END:STANDARD
END:VTIMEZONE
BEGIN:VEVENT
UID:20260423T002349CEST-8118MUuTl9@horsealert.local
DTSTAMP:20260422T220449Z
CATEGORIES:Horse Alerts
DESCRIPTION:REA Grimes Property Consultants Juvenile Hurdle (Grade 2)
DTSTART:20160328T144000
LOCATION:Eire
SUMMARY:Horse Racing:REA Grimes Property Consultants Juvenile Hurdle (Grade
  2)
END:VEVENT
END:VCALENDAR
