BEGIN:VCALENDAR
VERSION:2.0
PRODID:-//horsealert.local//NONSGML kigkonsult.se iCalcreator 2.10.5//
CALSCALE:GREGORIAN
X-WR-TIMEZONE:Europe/Dublin
BEGIN:VTIMEZONE
TZID:Etc/GMT-1
BEGIN:STANDARD
DTSTART:20010101T000000
TZOFFSETFROM:+0100
TZOFFSETTO:+0100
TZNAME:GMT +01:00
END:STANDARD
END:VTIMEZONE
BEGIN:VEVENT
UID:20260423T002518CEST-9616edoAse@horsealert.local
DTSTAMP:20260422T220418Z
CATEGORIES:Horse Alerts
DESCRIPTION:High Definition Racing UK Handicap (London Middle Distance Seri
 es Qualifier)
DTSTART:20160326T171000
LOCATION:England
SUMMARY:Horse Racing:High Definition Racing UK Handicap (London Middle Dist
 ance Series Qualifier)
END:VEVENT
END:VCALENDAR
