BEGIN:VCALENDAR
VERSION:2.0
PRODID:-//horsealert.local//NONSGML kigkonsult.se iCalcreator 2.10.5//
CALSCALE:GREGORIAN
X-WR-TIMEZONE:Europe/Dublin
BEGIN:VTIMEZONE
TZID:Etc/GMT-1
BEGIN:STANDARD
DTSTART:20010101T000000
TZOFFSETFROM:+0100
TZOFFSETTO:+0100
TZNAME:GMT +01:00
END:STANDARD
END:VTIMEZONE
BEGIN:VEVENT
UID:20260423T002511CEST-49229AcsiV@horsealert.local
DTSTAMP:20260422T220411Z
CATEGORIES:Horse Alerts
DESCRIPTION:Casino At bet365.com Handicap
DTSTART:20160325T163000
LOCATION:England
SUMMARY:Horse Racing:Casino At bet365.com Handicap
END:VEVENT
END:VCALENDAR
