BEGIN:VCALENDAR
VERSION:2.0
PRODID:-//horsealert.local//NONSGML kigkonsult.se iCalcreator 2.10.5//
CALSCALE:GREGORIAN
X-WR-TIMEZONE:Europe/Dublin
BEGIN:VTIMEZONE
TZID:Etc/GMT-1
BEGIN:STANDARD
DTSTART:20010101T000000
TZOFFSETFROM:+0100
TZOFFSETTO:+0100
TZNAME:GMT +01:00
END:STANDARD
END:VTIMEZONE
BEGIN:VEVENT
UID:20260423T002520CEST-5059zI0K6L@horsealert.local
DTSTAMP:20260422T220420Z
CATEGORIES:Horse Alerts
DESCRIPTION:ECIC Mares' Novices' Hurdle
DTSTART:20160324T140500
LOCATION:Wales
SUMMARY:Horse Racing:ECIC Mares' Novices' Hurdle
END:VEVENT
END:VCALENDAR
