BEGIN:VCALENDAR
VERSION:2.0
PRODID:-//horsealert.local//NONSGML kigkonsult.se iCalcreator 2.10.5//
CALSCALE:GREGORIAN
X-WR-TIMEZONE:Europe/Dublin
BEGIN:VTIMEZONE
TZID:Etc/GMT-1
BEGIN:STANDARD
DTSTART:20010101T000000
TZOFFSETFROM:+0100
TZOFFSETTO:+0100
TZNAME:GMT +01:00
END:STANDARD
END:VTIMEZONE
BEGIN:VEVENT
UID:20260423T002509CEST-2134WFAuOx@horsealert.local
DTSTAMP:20260422T220409Z
CATEGORIES:Horse Alerts
DESCRIPTION:32Red All-Weather 3 Year Old Mile Championships Conditions Stak
 es
DTSTART:20160325T164500
LOCATION:England
SUMMARY:Horse Racing:32Red All-Weather 3 Year Old Mile Championships Condit
 ions Stakes
END:VEVENT
END:VCALENDAR
