BEGIN:VCALENDAR
VERSION:2.0
PRODID:-//horsealert.local//NONSGML kigkonsult.se iCalcreator 2.10.5//
CALSCALE:GREGORIAN
X-WR-TIMEZONE:Europe/Dublin
BEGIN:VTIMEZONE
TZID:Etc/GMT-1
BEGIN:STANDARD
DTSTART:20010101T000000
TZOFFSETFROM:+0100
TZOFFSETTO:+0100
TZNAME:GMT +01:00
END:STANDARD
END:VTIMEZONE
BEGIN:VEVENT
UID:20260423T002510CEST-9451hH0Nk4@horsealert.local
DTSTAMP:20260422T220410Z
CATEGORIES:Horse Alerts
DESCRIPTION:Jimmy Neville Memorial Beginners Chase
DTSTART:20160324T145500
LOCATION:Eire
SUMMARY:Horse Racing:Jimmy Neville Memorial Beginners Chase
END:VEVENT
END:VCALENDAR
