BEGIN:VCALENDAR
VERSION:2.0
PRODID:-//horsealert.local//NONSGML kigkonsult.se iCalcreator 2.10.5//
CALSCALE:GREGORIAN
X-WR-TIMEZONE:Europe/Dublin
BEGIN:VTIMEZONE
TZID:Etc/GMT-1
BEGIN:STANDARD
DTSTART:20010101T000000
TZOFFSETFROM:+0100
TZOFFSETTO:+0100
TZNAME:GMT +01:00
END:STANDARD
END:VTIMEZONE
BEGIN:VEVENT
UID:20260423T002427CEST-3224LissT6@horsealert.local
DTSTAMP:20260422T220427Z
CATEGORIES:Horse Alerts
DESCRIPTION:C & S Electrical Wholesale Termination Technology Novices' Hurd
 le
DTSTART:20160321T144000
LOCATION:England
SUMMARY:Horse Racing:C & S Electrical Wholesale Termination Technology Novi
 ces' Hurdle
END:VEVENT
END:VCALENDAR
