BEGIN:VCALENDAR
VERSION:2.0
PRODID:-//horsealert.local//NONSGML kigkonsult.se iCalcreator 2.10.5//
CALSCALE:GREGORIAN
X-WR-TIMEZONE:Europe/Dublin
BEGIN:VTIMEZONE
TZID:Etc/GMT-1
BEGIN:STANDARD
DTSTART:20010101T000000
TZOFFSETFROM:+0100
TZOFFSETTO:+0100
TZNAME:GMT +01:00
END:STANDARD
END:VTIMEZONE
BEGIN:VEVENT
UID:20260423T002454CEST-75782FH66m@horsealert.local
DTSTAMP:20260422T220454Z
CATEGORIES:Horse Alerts
DESCRIPTION:Berwick Speedway Every Saturday Kids Free Mares' Novices' Hurdl
 e
DTSTART:20160321T150000
LOCATION:Scotland
SUMMARY:Horse Racing:Berwick Speedway Every Saturday Kids Free Mares' Novic
 es' Hurdle
END:VEVENT
END:VCALENDAR
