BEGIN:VCALENDAR
VERSION:2.0
PRODID:-//horsealert.local//NONSGML kigkonsult.se iCalcreator 2.10.5//
CALSCALE:GREGORIAN
X-WR-TIMEZONE:Europe/Dublin
BEGIN:VTIMEZONE
TZID:Etc/GMT-1
BEGIN:STANDARD
DTSTART:20010101T000000
TZOFFSETFROM:+0100
TZOFFSETTO:+0100
TZNAME:GMT +01:00
END:STANDARD
END:VTIMEZONE
BEGIN:VEVENT
UID:20260423T020911CEST-0608LgJ8dn@horsealert.local
DTSTAMP:20260423T000411Z
CATEGORIES:Horse Alerts
DESCRIPTION:Downpatrick Racecourse Going The Extra Mile Handicap Chase (0-1
 02)
DTSTART:20160320T163500
LOCATION:Northern Ireland
SUMMARY:Horse Racing:Downpatrick Racecourse Going The Extra Mile Handicap C
 hase (0-102)
END:VEVENT
END:VCALENDAR
