BEGIN:VCALENDAR
VERSION:2.0
PRODID:-//horsealert.local//NONSGML kigkonsult.se iCalcreator 2.10.5//
CALSCALE:GREGORIAN
X-WR-TIMEZONE:Europe/Dublin
BEGIN:VTIMEZONE
TZID:Etc/GMT-1
BEGIN:STANDARD
DTSTART:20010101T000000
TZOFFSETFROM:+0100
TZOFFSETTO:+0100
TZNAME:GMT +01:00
END:STANDARD
END:VTIMEZONE
BEGIN:VEVENT
UID:20260423T002455CEST-0351AF05fB@horsealert.local
DTSTAMP:20260422T220455Z
CATEGORIES:Horse Alerts
DESCRIPTION:Visit Saint Patrick's Country Maiden Hurdle
DTSTART:20160320T142000
LOCATION:Northern Ireland
SUMMARY:Horse Racing:Visit Saint Patrick's Country Maiden Hurdle
END:VEVENT
END:VCALENDAR
