BEGIN:VCALENDAR
VERSION:2.0
PRODID:-//horsealert.local//NONSGML kigkonsult.se iCalcreator 2.10.5//
CALSCALE:GREGORIAN
X-WR-TIMEZONE:Europe/Dublin
BEGIN:VTIMEZONE
TZID:Etc/GMT-1
BEGIN:STANDARD
DTSTART:20010101T000000
TZOFFSETFROM:+0100
TZOFFSETTO:+0100
TZNAME:GMT +01:00
END:STANDARD
END:VTIMEZONE
BEGIN:VEVENT
UID:20260423T002338CEST-8125Oz4SGg@horsealert.local
DTSTAMP:20260422T220438Z
CATEGORIES:Horse Alerts
DESCRIPTION:ApolloBet Home Of Cashback Offers Novices' Handicap Hurdle
DTSTART:20160320T141500
LOCATION:England
SUMMARY:Horse Racing:ApolloBet Home Of Cashback Offers Novices' Handicap Hu
 rdle
END:VEVENT
END:VCALENDAR
