BEGIN:VCALENDAR
VERSION:2.0
PRODID:-//horsealert.local//NONSGML kigkonsult.se iCalcreator 2.10.5//
CALSCALE:GREGORIAN
X-WR-TIMEZONE:Europe/Dublin
BEGIN:VTIMEZONE
TZID:Etc/GMT-1
BEGIN:STANDARD
DTSTART:20010101T000000
TZOFFSETFROM:+0100
TZOFFSETTO:+0100
TZNAME:GMT +01:00
END:STANDARD
END:VTIMEZONE
BEGIN:VEVENT
UID:20260423T053918CEST-4676UzwegN@horsealert.local
DTSTAMP:20260423T030418Z
CATEGORIES:Horse Alerts
DESCRIPTION:MTrec Recruitment - Specialists In Temporary Worker Recruitment
  Handicap Chase
DTSTART:20160319T145000
LOCATION:England
SUMMARY:Horse Racing:MTrec Recruitment - Specialists In Temporary Worker Re
 cruitment Handicap Chase
END:VEVENT
END:VCALENDAR
