BEGIN:VCALENDAR
VERSION:2.0
PRODID:-//horsealert.local//NONSGML kigkonsult.se iCalcreator 2.10.5//
CALSCALE:GREGORIAN
X-WR-TIMEZONE:Europe/Dublin
BEGIN:VTIMEZONE
TZID:Etc/GMT-1
BEGIN:STANDARD
DTSTART:20010101T000000
TZOFFSETFROM:+0100
TZOFFSETTO:+0100
TZNAME:GMT +01:00
END:STANDARD
END:VTIMEZONE
BEGIN:VEVENT
UID:20260423T002447CEST-09862E3vVg@horsealert.local
DTSTAMP:20260422T220447Z
CATEGORIES:Horse Alerts
DESCRIPTION:Albert Bartlett Novices' Hurdle (Registered As The Spa Novices'
  Hurdle) (Grade 1)
DTSTART:20160318T145000
LOCATION:England
SUMMARY:Horse Racing:Albert Bartlett Novices' Hurdle (Registered As The Spa
  Novices' Hurdle) (Grade 1)
END:VEVENT
END:VCALENDAR
