BEGIN:VCALENDAR
VERSION:2.0
PRODID:-//horsealert.local//NONSGML kigkonsult.se iCalcreator 2.10.5//
CALSCALE:GREGORIAN
X-WR-TIMEZONE:Europe/Dublin
BEGIN:VTIMEZONE
TZID:Etc/GMT-1
BEGIN:STANDARD
DTSTART:20010101T000000
TZOFFSETFROM:+0100
TZOFFSETTO:+0100
TZNAME:GMT +01:00
END:STANDARD
END:VTIMEZONE
BEGIN:VEVENT
UID:20260423T002421CEST-84731L6eTG@horsealert.local
DTSTAMP:20260422T220421Z
CATEGORIES:Horse Alerts
DESCRIPTION:Marham Handicap Chase (For The Walter Wales Memorial Cup)
DTSTART:20160318T171000
LOCATION:England
SUMMARY:Horse Racing:Marham Handicap Chase (For The Walter Wales Memorial C
 up)
END:VEVENT
END:VCALENDAR
