BEGIN:VCALENDAR
VERSION:2.0
PRODID:-//horsealert.local//NONSGML kigkonsult.se iCalcreator 2.10.5//
CALSCALE:GREGORIAN
X-WR-TIMEZONE:Europe/Dublin
BEGIN:VTIMEZONE
TZID:Etc/GMT-1
BEGIN:STANDARD
DTSTART:20010101T000000
TZOFFSETFROM:+0100
TZOFFSETTO:+0100
TZNAME:GMT +01:00
END:STANDARD
END:VTIMEZONE
BEGIN:VEVENT
UID:20260423T020846CEST-6684OeKL7o@horsealert.local
DTSTAMP:20260423T000446Z
CATEGORIES:Horse Alerts
DESCRIPTION:Race Sponsorship To Celebrate Any Occasion Novices' Handicap Ch
 ase
DTSTART:20160317T151500
LOCATION:England
SUMMARY:Horse Racing:Race Sponsorship To Celebrate Any Occasion Novices' Ha
 ndicap Chase
END:VEVENT
END:VCALENDAR
