BEGIN:VCALENDAR
VERSION:2.0
PRODID:-//horsealert.local//NONSGML kigkonsult.se iCalcreator 2.10.5//
CALSCALE:GREGORIAN
X-WR-TIMEZONE:Europe/Dublin
BEGIN:VTIMEZONE
TZID:Etc/GMT-1
BEGIN:STANDARD
DTSTART:20010101T000000
TZOFFSETFROM:+0100
TZOFFSETTO:+0100
TZNAME:GMT +01:00
END:STANDARD
END:VTIMEZONE
BEGIN:VEVENT
UID:20260423T002252CEST-3220uPkIXM@horsealert.local
DTSTAMP:20260422T220452Z
CATEGORIES:Horse Alerts
DESCRIPTION:Cheltenham Crazy Prices At Coral.ie Maiden Hurdle
DTSTART:20160314T153500
LOCATION:Eire
SUMMARY:Horse Racing:Cheltenham Crazy Prices At Coral.ie Maiden Hurdle
END:VEVENT
END:VCALENDAR
