BEGIN:VCALENDAR
VERSION:2.0
PRODID:-//horsealert.local//NONSGML kigkonsult.se iCalcreator 2.10.5//
CALSCALE:GREGORIAN
X-WR-TIMEZONE:Europe/Dublin
BEGIN:VTIMEZONE
TZID:Etc/GMT-1
BEGIN:STANDARD
DTSTART:20010101T000000
TZOFFSETFROM:+0100
TZOFFSETTO:+0100
TZNAME:GMT +01:00
END:STANDARD
END:VTIMEZONE
BEGIN:VEVENT
UID:20260423T002302CEST-7977uN5auH@horsealert.local
DTSTAMP:20260422T220402Z
CATEGORIES:Horse Alerts
DESCRIPTION:X.de Watrigant Stakes
DTSTART:20160314T181000
LOCATION:France
SUMMARY:Horse Racing:X.de Watrigant Stakes
END:VEVENT
END:VCALENDAR
