BEGIN:VCALENDAR
VERSION:2.0
PRODID:-//horsealert.local//NONSGML kigkonsult.se iCalcreator 2.10.5//
CALSCALE:GREGORIAN
X-WR-TIMEZONE:Europe/Dublin
BEGIN:VTIMEZONE
TZID:Etc/GMT-1
BEGIN:STANDARD
DTSTART:20010101T000000
TZOFFSETFROM:+0100
TZOFFSETTO:+0100
TZNAME:GMT +01:00
END:STANDARD
END:VTIMEZONE
BEGIN:VEVENT
UID:20260423T002336CEST-5942VrMlwI@horsealert.local
DTSTAMP:20260422T220436Z
CATEGORIES:Horse Alerts
DESCRIPTION:30th European Breeders' Fund Greenall's Gin 'National Hunt' Nov
 ices' Handicap Hurdle Final (Grade 3)
DTSTART:20160312T140000
LOCATION:England
SUMMARY:Horse Racing:30th European Breeders' Fund Greenall's Gin 'National 
 Hunt' Novices' Handicap Hurdle Final (Grade 3)
END:VEVENT
END:VCALENDAR
