BEGIN:VCALENDAR
VERSION:2.0
PRODID:-//horsealert.local//NONSGML kigkonsult.se iCalcreator 2.10.5//
CALSCALE:GREGORIAN
X-WR-TIMEZONE:Europe/Dublin
BEGIN:VTIMEZONE
TZID:Etc/GMT-1
BEGIN:STANDARD
DTSTART:20010101T000000
TZOFFSETFROM:+0100
TZOFFSETTO:+0100
TZNAME:GMT +01:00
END:STANDARD
END:VTIMEZONE
BEGIN:VEVENT
UID:20260423T020847CEST-9477Pv639t@horsealert.local
DTSTAMP:20260423T000447Z
CATEGORIES:Horse Alerts
DESCRIPTION:Ortus Homes Mares' Handicap Hurdle (For The Ayrshire Yeomanry C
 up)
DTSTART:20160312T153000
LOCATION:Scotland
SUMMARY:Horse Racing:Ortus Homes Mares' Handicap Hurdle (For The Ayrshire Y
 eomanry Cup)
END:VEVENT
END:VCALENDAR
