BEGIN:VCALENDAR
VERSION:2.0
PRODID:-//horsealert.local//NONSGML kigkonsult.se iCalcreator 2.10.5//
CALSCALE:GREGORIAN
X-WR-TIMEZONE:Europe/Dublin
BEGIN:VTIMEZONE
TZID:Etc/GMT-1
BEGIN:STANDARD
DTSTART:20010101T000000
TZOFFSETFROM:+0100
TZOFFSETTO:+0100
TZNAME:GMT +01:00
END:STANDARD
END:VTIMEZONE
BEGIN:VEVENT
UID:20260423T002333CEST-9489zr2cHx@horsealert.local
DTSTAMP:20260422T220433Z
CATEGORIES:Horse Alerts
DESCRIPTION:8/1 Willie Mullins To Train A Cheltenham Winner At Coral.ie E.B
 .F. Mares Novice Chase (Grade 2)
DTSTART:20160313T162000
LOCATION:Eire
SUMMARY:Horse Racing:8/1 Willie Mullins To Train A Cheltenham Winner At Cor
 al.ie E.B.F. Mares Novice Chase (Grade 2)
END:VEVENT
END:VCALENDAR
