BEGIN:VCALENDAR
VERSION:2.0
PRODID:-//horsealert.local//NONSGML kigkonsult.se iCalcreator 2.10.5//
CALSCALE:GREGORIAN
X-WR-TIMEZONE:Europe/Dublin
BEGIN:VTIMEZONE
TZID:Etc/GMT-1
BEGIN:STANDARD
DTSTART:20010101T000000
TZOFFSETFROM:+0100
TZOFFSETTO:+0100
TZNAME:GMT +01:00
END:STANDARD
END:VTIMEZONE
BEGIN:VEVENT
UID:20260423T002429CEST-7735MCMGRP@horsealert.local
DTSTAMP:20260422T220429Z
CATEGORIES:Horse Alerts
DESCRIPTION:Ladbrokes Lady Wulfruna Stakes (Listed) (All-Weather Championsh
 ip Fast-Track Qualifier)
DTSTART:20160312T145000
LOCATION:England
SUMMARY:Horse Racing:Ladbrokes Lady Wulfruna Stakes (Listed) (All-Weather C
 hampionship Fast-Track Qualifier)
END:VEVENT
END:VCALENDAR
