BEGIN:VCALENDAR
VERSION:2.0
PRODID:-//horsealert.local//NONSGML kigkonsult.se iCalcreator 2.10.5//
CALSCALE:GREGORIAN
X-WR-TIMEZONE:Europe/Dublin
BEGIN:VTIMEZONE
TZID:Etc/GMT-1
BEGIN:STANDARD
DTSTART:20010101T000000
TZOFFSETFROM:+0100
TZOFFSETTO:+0100
TZNAME:GMT +01:00
END:STANDARD
END:VTIMEZONE
BEGIN:VEVENT
UID:20260423T002343CEST-7959S5UmT2@horsealert.local
DTSTAMP:20260422T220443Z
CATEGORIES:Horse Alerts
DESCRIPTION:Woodlands House Hotel Adare (C & G) Maiden Hurdle
DTSTART:20160311T154500
LOCATION:Eire
SUMMARY:Horse Racing:Woodlands House Hotel Adare (C & G) Maiden Hurdle
END:VEVENT
END:VCALENDAR
