BEGIN:VCALENDAR
VERSION:2.0
PRODID:-//horsealert.local//NONSGML kigkonsult.se iCalcreator 2.10.5//
CALSCALE:GREGORIAN
X-WR-TIMEZONE:Europe/Dublin
BEGIN:VTIMEZONE
TZID:Etc/GMT-1
BEGIN:STANDARD
DTSTART:20010101T000000
TZOFFSETFROM:+0100
TZOFFSETTO:+0100
TZNAME:GMT +01:00
END:STANDARD
END:VTIMEZONE
BEGIN:VEVENT
UID:20260423T020915CEST-9815iUgURk@horsealert.local
DTSTAMP:20260423T000415Z
CATEGORIES:Horse Alerts
DESCRIPTION:Watch RacingUK HD Today Just 10 Handicap Hurdle
DTSTART:20160311T165000
LOCATION:Scotland
SUMMARY:Horse Racing:Watch RacingUK HD Today Just 10 Handicap Hurdle
END:VEVENT
END:VCALENDAR
