BEGIN:VCALENDAR
VERSION:2.0
PRODID:-//horsealert.local//NONSGML kigkonsult.se iCalcreator 2.10.5//
CALSCALE:GREGORIAN
X-WR-TIMEZONE:Europe/Dublin
BEGIN:VTIMEZONE
TZID:Etc/GMT-1
BEGIN:STANDARD
DTSTART:20010101T000000
TZOFFSETFROM:+0100
TZOFFSETTO:+0100
TZNAME:GMT +01:00
END:STANDARD
END:VTIMEZONE
BEGIN:VEVENT
UID:20260423T002445CEST-4220N0KlLJ@horsealert.local
DTSTAMP:20260422T220445Z
CATEGORIES:Horse Alerts
DESCRIPTION:ApolloBet Cheltenham Offers 'Hands And Heels' Handicap Hurdle (
 Conditionals And Amateurs)
DTSTART:20160310T140000
LOCATION:England
SUMMARY:Horse Racing:ApolloBet Cheltenham Offers 'Hands And Heels' Handicap
  Hurdle (Conditionals And Amateurs)
END:VEVENT
END:VCALENDAR
