BEGIN:VCALENDAR
VERSION:2.0
PRODID:-//horsealert.local//NONSGML kigkonsult.se iCalcreator 2.10.5//
CALSCALE:GREGORIAN
X-WR-TIMEZONE:Europe/Dublin
BEGIN:VTIMEZONE
TZID:Etc/GMT-1
BEGIN:STANDARD
DTSTART:20010101T000000
TZOFFSETFROM:+0100
TZOFFSETTO:+0100
TZNAME:GMT +01:00
END:STANDARD
END:VTIMEZONE
BEGIN:VEVENT
UID:20260423T002441CEST-9065zKzi85@horsealert.local
DTSTAMP:20260422T220441Z
CATEGORIES:Horse Alerts
DESCRIPTION:Bet Scoop6Soccer At Betfred Shops Handicap
DTSTART:20160310T192000
LOCATION:England
SUMMARY:Horse Racing:Bet Scoop6Soccer At Betfred Shops Handicap
END:VEVENT
END:VCALENDAR
