BEGIN:VCALENDAR
VERSION:2.0
PRODID:-//horsealert.local//NONSGML kigkonsult.se iCalcreator 2.10.5//
CALSCALE:GREGORIAN
X-WR-TIMEZONE:Europe/Dublin
BEGIN:VTIMEZONE
TZID:Etc/GMT-1
BEGIN:STANDARD
DTSTART:20010101T000000
TZOFFSETFROM:+0100
TZOFFSETTO:+0100
TZNAME:GMT +01:00
END:STANDARD
END:VTIMEZONE
BEGIN:VEVENT
UID:20260423T002433CEST-7835W34xog@horsealert.local
DTSTAMP:20260422T220433Z
CATEGORIES:Horse Alerts
DESCRIPTION:32Red Casino Apprentice Handicap (London Mile Series Qualifier)
DTSTART:20160309T201000
LOCATION:England
SUMMARY:Horse Racing:32Red Casino Apprentice Handicap (London Mile Series Q
 ualifier)
END:VEVENT
END:VCALENDAR
