BEGIN:VCALENDAR
VERSION:2.0
PRODID:-//horsealert.local//NONSGML kigkonsult.se iCalcreator 2.10.5//
CALSCALE:GREGORIAN
X-WR-TIMEZONE:Europe/Dublin
BEGIN:VTIMEZONE
TZID:Etc/GMT-1
BEGIN:STANDARD
DTSTART:20010101T000000
TZOFFSETFROM:+0100
TZOFFSETTO:+0100
TZNAME:GMT +01:00
END:STANDARD
END:VTIMEZONE
BEGIN:VEVENT
UID:20260423T002454CEST-1232Kprh9D@horsealert.local
DTSTAMP:20260422T220454Z
CATEGORIES:Horse Alerts
DESCRIPTION:Injured Jockeys Fund Conditional Jockeys' Training Series Handi
 cap Chase
DTSTART:20160307T154000
LOCATION:England
SUMMARY:Horse Racing:Injured Jockeys Fund Conditional Jockeys' Training Ser
 ies Handicap Chase
END:VEVENT
END:VCALENDAR
