BEGIN:VCALENDAR
VERSION:2.0
PRODID:-//horsealert.local//NONSGML kigkonsult.se iCalcreator 2.10.5//
CALSCALE:GREGORIAN
X-WR-TIMEZONE:Europe/Dublin
BEGIN:VTIMEZONE
TZID:Etc/GMT-1
BEGIN:STANDARD
DTSTART:20010101T000000
TZOFFSETFROM:+0100
TZOFFSETTO:+0100
TZNAME:GMT +01:00
END:STANDARD
END:VTIMEZONE
BEGIN:VEVENT
UID:20260423T002509CEST-3063ScTTpW@horsealert.local
DTSTAMP:20260422T220409Z
CATEGORIES:Horse Alerts
DESCRIPTION:Stratford Bookmakers Day Handicap Chase (Qualifier For The Chal
 lenger Staying Chase Series Final)
DTSTART:20160305T164000
LOCATION:England
SUMMARY:Horse Racing:Stratford Bookmakers Day Handicap Chase (Qualifier For
  The Challenger Staying Chase Series Final)
END:VEVENT
END:VCALENDAR
