BEGIN:VCALENDAR
VERSION:2.0
PRODID:-//horsealert.local//NONSGML kigkonsult.se iCalcreator 2.10.5//
CALSCALE:GREGORIAN
X-WR-TIMEZONE:Europe/Dublin
BEGIN:VTIMEZONE
TZID:Etc/GMT-1
BEGIN:STANDARD
DTSTART:20010101T000000
TZOFFSETFROM:+0100
TZOFFSETTO:+0100
TZNAME:GMT +01:00
END:STANDARD
END:VTIMEZONE
BEGIN:VEVENT
UID:20260423T002342CEST-7181oOb7fn@horsealert.local
DTSTAMP:20260422T220442Z
CATEGORIES:Horse Alerts
DESCRIPTION:BetVictor Supporting Greatwood Novices' Limited Handicap Chase 
 (For The Jacky Upton Trophy)
DTSTART:20160305T163500
LOCATION:England
SUMMARY:Horse Racing:BetVictor Supporting Greatwood Novices' Limited Handic
 ap Chase (For The Jacky Upton Trophy)
END:VEVENT
END:VCALENDAR
