BEGIN:VCALENDAR
VERSION:2.0
PRODID:-//horsealert.local//NONSGML kigkonsult.se iCalcreator 2.10.5//
CALSCALE:GREGORIAN
X-WR-TIMEZONE:Europe/Dublin
BEGIN:VTIMEZONE
TZID:Etc/GMT-1
BEGIN:STANDARD
DTSTART:20010101T000000
TZOFFSETFROM:+0100
TZOFFSETTO:+0100
TZNAME:GMT +01:00
END:STANDARD
END:VTIMEZONE
BEGIN:VEVENT
UID:20260423T002448CEST-4660N72bTK@horsealert.local
DTSTAMP:20260422T220448Z
CATEGORIES:Horse Alerts
DESCRIPTION:32Red.com All Weather 'Hands And Heels' Apprentice Series Final
  Handicap
DTSTART:20160305T172500
LOCATION:England
SUMMARY:Horse Racing:32Red.com All Weather 'Hands And Heels' Apprentice Ser
 ies Final Handicap
END:VEVENT
END:VCALENDAR
