BEGIN:VCALENDAR
VERSION:2.0
PRODID:-//horsealert.local//NONSGML kigkonsult.se iCalcreator 2.10.5//
CALSCALE:GREGORIAN
X-WR-TIMEZONE:Europe/Dublin
BEGIN:VTIMEZONE
TZID:Etc/GMT-1
BEGIN:STANDARD
DTSTART:20010101T000000
TZOFFSETFROM:+0100
TZOFFSETTO:+0100
TZNAME:GMT +01:00
END:STANDARD
END:VTIMEZONE
BEGIN:VEVENT
UID:20260423T002423CEST-6679nF75jR@horsealert.local
DTSTAMP:20260422T220423Z
CATEGORIES:Horse Alerts
DESCRIPTION:TKP Surfacing Handicap Hurdle (In Aid Of West Berkshire Mencap)
DTSTART:20160304T170500
LOCATION:England
SUMMARY:Horse Racing:TKP Surfacing Handicap Hurdle (In Aid Of West Berkshir
 e Mencap)
END:VEVENT
END:VCALENDAR
