BEGIN:VCALENDAR
VERSION:2.0
PRODID:-//horsealert.local//NONSGML kigkonsult.se iCalcreator 2.10.5//
CALSCALE:GREGORIAN
X-WR-TIMEZONE:Europe/Dublin
BEGIN:VTIMEZONE
TZID:Etc/GMT-1
BEGIN:STANDARD
DTSTART:20010101T000000
TZOFFSETFROM:+0100
TZOFFSETTO:+0100
TZNAME:GMT +01:00
END:STANDARD
END:VTIMEZONE
BEGIN:VEVENT
UID:20260423T002150CEST-6727tkbRmV@horsealert.local
DTSTAMP:20260422T220450Z
CATEGORIES:Horse Alerts
DESCRIPTION:Bet & Watch Irish And UK Racing Live At Coral.ie (Q.R.) Handica
 p
DTSTART:20160304T210000
LOCATION:Eire
SUMMARY:Horse Racing:Bet & Watch Irish And UK Racing Live At Coral.ie (Q.R.
 ) Handicap
END:VEVENT
END:VCALENDAR
