BEGIN:VCALENDAR
VERSION:2.0
PRODID:-//horsealert.local//NONSGML kigkonsult.se iCalcreator 2.10.5//
CALSCALE:GREGORIAN
X-WR-TIMEZONE:Europe/Dublin
BEGIN:VTIMEZONE
TZID:Etc/GMT-1
BEGIN:STANDARD
DTSTART:20010101T000000
TZOFFSETFROM:+0100
TZOFFSETTO:+0100
TZNAME:GMT +01:00
END:STANDARD
END:VTIMEZONE
BEGIN:VEVENT
UID:20260423T002433CEST-0477sirKlo@horsealert.local
DTSTAMP:20260422T220433Z
CATEGORIES:Horse Alerts
DESCRIPTION:Bet 5 Get 20 In Free Bets At Coral.ie Handicap
DTSTART:20160304T183000
LOCATION:Eire
SUMMARY:Horse Racing:Bet 5 Get 20 In Free Bets At Coral.ie Handicap
END:VEVENT
END:VCALENDAR
