BEGIN:VCALENDAR
VERSION:2.0
PRODID:-//horsealert.local//NONSGML kigkonsult.se iCalcreator 2.10.5//
CALSCALE:GREGORIAN
X-WR-TIMEZONE:Europe/Dublin
BEGIN:VTIMEZONE
TZID:Etc/GMT-1
BEGIN:STANDARD
DTSTART:20010101T000000
TZOFFSETFROM:+0100
TZOFFSETTO:+0100
TZNAME:GMT +01:00
END:STANDARD
END:VTIMEZONE
BEGIN:VEVENT
UID:20260423T002253CEST-2311mVAVCD@horsealert.local
DTSTAMP:20260422T220453Z
CATEGORIES:Horse Alerts
DESCRIPTION:Clarke Willmott Novices' Limited Handicap Chase
DTSTART:20160303T155000
LOCATION:England
SUMMARY:Horse Racing:Clarke Willmott Novices' Limited Handicap Chase
END:VEVENT
END:VCALENDAR
