BEGIN:VCALENDAR
VERSION:2.0
PRODID:-//horsealert.local//NONSGML kigkonsult.se iCalcreator 2.10.5//
CALSCALE:GREGORIAN
X-WR-TIMEZONE:Europe/Dublin
BEGIN:VTIMEZONE
TZID:Etc/GMT-1
BEGIN:STANDARD
DTSTART:20010101T000000
TZOFFSETFROM:+0100
TZOFFSETTO:+0100
TZNAME:GMT +01:00
END:STANDARD
END:VTIMEZONE
BEGIN:VEVENT
UID:20260423T020956CEST-7136kFIrvI@horsealert.local
DTSTAMP:20260423T000456Z
CATEGORIES:Horse Alerts
DESCRIPTION:totetrifecta Foxhunter Trial (Open Hunters' Chase) (For The Whi
 telaw Challenge Cup)
DTSTART:20160228T162000
LOCATION:England
SUMMARY:Horse Racing:totetrifecta Foxhunter Trial (Open Hunters' Chase) (Fo
 r The Whitelaw Challenge Cup)
END:VEVENT
END:VCALENDAR
