BEGIN:VCALENDAR
VERSION:2.0
PRODID:-//horsealert.local//NONSGML kigkonsult.se iCalcreator 2.10.5//
CALSCALE:GREGORIAN
X-WR-TIMEZONE:Europe/Dublin
BEGIN:VTIMEZONE
TZID:Etc/GMT-1
BEGIN:STANDARD
DTSTART:20010101T000000
TZOFFSETFROM:+0100
TZOFFSETTO:+0100
TZNAME:GMT +01:00
END:STANDARD
END:VTIMEZONE
BEGIN:VEVENT
UID:20260423T053736CEST-1235smhg3T@horsealert.local
DTSTAMP:20260423T030436Z
CATEGORIES:Horse Alerts
DESCRIPTION:totequadpot Handicap Chase (For The Certain Justice Challenge T
 rophy)
DTSTART:20160228T145000
LOCATION:England
SUMMARY:Horse Racing:totequadpot Handicap Chase (For The Certain Justice Ch
 allenge Trophy)
END:VEVENT
END:VCALENDAR
