BEGIN:VCALENDAR
VERSION:2.0
PRODID:-//horsealert.local//NONSGML kigkonsult.se iCalcreator 2.10.5//
CALSCALE:GREGORIAN
X-WR-TIMEZONE:Europe/Dublin
BEGIN:VTIMEZONE
TZID:Etc/GMT-1
BEGIN:STANDARD
DTSTART:20010101T000000
TZOFFSETFROM:+0100
TZOFFSETTO:+0100
TZNAME:GMT +01:00
END:STANDARD
END:VTIMEZONE
BEGIN:VEVENT
UID:20260423T020957CEST-72641aP3T0@horsealert.local
DTSTAMP:20260423T000457Z
CATEGORIES:Horse Alerts
DESCRIPTION:Coral Maiden Stakes
DTSTART:20160226T160500
LOCATION:England
SUMMARY:Horse Racing:Coral Maiden Stakes
END:VEVENT
END:VCALENDAR
