BEGIN:VCALENDAR
VERSION:2.0
PRODID:-//horsealert.local//NONSGML kigkonsult.se iCalcreator 2.10.5//
CALSCALE:GREGORIAN
X-WR-TIMEZONE:Europe/Dublin
BEGIN:VTIMEZONE
TZID:Etc/GMT-1
BEGIN:STANDARD
DTSTART:20010101T000000
TZOFFSETFROM:+0100
TZOFFSETTO:+0100
TZNAME:GMT +01:00
END:STANDARD
END:VTIMEZONE
BEGIN:VEVENT
UID:20260423T071703CEST-41906rxKRV@horsealert.local
DTSTAMP:20260423T050403Z
CATEGORIES:Horse Alerts
DESCRIPTION:BetBright Best For Festival Betting Veterans' Handicap Chase (Q
 ualifier)
DTSTART:20160224T153000
LOCATION:England
SUMMARY:Horse Racing:BetBright Best For Festival Betting Veterans' Handicap
  Chase (Qualifier)
END:VEVENT
END:VCALENDAR
