BEGIN:VCALENDAR
VERSION:2.0
PRODID:-//horsealert.local//NONSGML kigkonsult.se iCalcreator 2.10.5//
CALSCALE:GREGORIAN
X-WR-TIMEZONE:Europe/Dublin
BEGIN:VTIMEZONE
TZID:Etc/GMT-1
BEGIN:STANDARD
DTSTART:20010101T000000
TZOFFSETFROM:+0100
TZOFFSETTO:+0100
TZNAME:GMT +01:00
END:STANDARD
END:VTIMEZONE
BEGIN:VEVENT
UID:20260423T020907CEST-2341gDzDFl@horsealert.local
DTSTAMP:20260423T000407Z
CATEGORIES:Horse Alerts
DESCRIPTION:Star Sports Cheltenham Preview Night - 8th March Handicap Hurdl
 e
DTSTART:20160223T162500
LOCATION:England
SUMMARY:Horse Racing:Star Sports Cheltenham Preview Night - 8th March Handi
 cap Hurdle
END:VEVENT
END:VCALENDAR
