BEGIN:VCALENDAR
VERSION:2.0
PRODID:-//horsealert.local//NONSGML kigkonsult.se iCalcreator 2.10.5//
CALSCALE:GREGORIAN
X-WR-TIMEZONE:Europe/Dublin
BEGIN:VTIMEZONE
TZID:Etc/GMT-1
BEGIN:STANDARD
DTSTART:20010101T000000
TZOFFSETFROM:+0100
TZOFFSETTO:+0100
TZNAME:GMT +01:00
END:STANDARD
END:VTIMEZONE
BEGIN:VEVENT
UID:20260423T020756CEST-5338RCj6Zh@horsealert.local
DTSTAMP:20260423T000456Z
CATEGORIES:Horse Alerts
DESCRIPTION:Ray Gilpin Victor Ludorum Juvenile Hurdle (Sponsored By Betfred
 )
DTSTART:20160220T133000
LOCATION:England
SUMMARY:Horse Racing:Ray Gilpin Victor Ludorum Juvenile Hurdle (Sponsored B
 y Betfred)
END:VEVENT
END:VCALENDAR
