BEGIN:VCALENDAR
VERSION:2.0
PRODID:-//horsealert.local//NONSGML kigkonsult.se iCalcreator 2.10.5//
CALSCALE:GREGORIAN
X-WR-TIMEZONE:Europe/Dublin
BEGIN:VTIMEZONE
TZID:Etc/GMT-1
BEGIN:STANDARD
DTSTART:20010101T000000
TZOFFSETFROM:+0100
TZOFFSETTO:+0100
TZNAME:GMT +01:00
END:STANDARD
END:VTIMEZONE
BEGIN:VEVENT
UID:20260423T035258CEST-56270Mp6Zd@horsealert.local
DTSTAMP:20260423T010458Z
CATEGORIES:Horse Alerts
DESCRIPTION:Parkview Provisions & Avenue Inn Supporting Killeavy GAC Handic
 ap Hurdle
DTSTART:20160220T145500
LOCATION:Eire
SUMMARY:Horse Racing:Parkview Provisions & Avenue Inn Supporting Killeavy G
 AC Handicap Hurdle
END:VEVENT
END:VCALENDAR
