BEGIN:VCALENDAR
VERSION:2.0
PRODID:-//horsealert.local//NONSGML kigkonsult.se iCalcreator 2.10.5//
CALSCALE:GREGORIAN
X-WR-TIMEZONE:Europe/Dublin
BEGIN:VTIMEZONE
TZID:Etc/GMT-1
BEGIN:STANDARD
DTSTART:20010101T000000
TZOFFSETFROM:+0100
TZOFFSETTO:+0100
TZNAME:GMT +01:00
END:STANDARD
END:VTIMEZONE
BEGIN:VEVENT
UID:20260423T035243CEST-1064wlRvB6@horsealert.local
DTSTAMP:20260423T010443Z
CATEGORIES:Horse Alerts
DESCRIPTION:Tim Barclay Memorial Handicap Chase (Qualifier For The Challeng
 er Middle Distance Chase Series Final)
DTSTART:20160219T150500
LOCATION:England
SUMMARY:Horse Racing:Tim Barclay Memorial Handicap Chase (Qualifier For The
  Challenger Middle Distance Chase Series Final)
END:VEVENT
END:VCALENDAR
