BEGIN:VCALENDAR
VERSION:2.0
PRODID:-//horsealert.local//NONSGML kigkonsult.se iCalcreator 2.10.5//
CALSCALE:GREGORIAN
X-WR-TIMEZONE:Europe/Dublin
BEGIN:VTIMEZONE
TZID:Etc/GMT-1
BEGIN:STANDARD
DTSTART:20010101T000000
TZOFFSETFROM:+0100
TZOFFSETTO:+0100
TZNAME:GMT +01:00
END:STANDARD
END:VTIMEZONE
BEGIN:VEVENT
UID:20260423T021017CEST-9731PUvHHn@horsealert.local
DTSTAMP:20260423T000417Z
CATEGORIES:Horse Alerts
DESCRIPTION:Andy Don Memorial Novices' Chase
DTSTART:20160219T133000
LOCATION:England
SUMMARY:Horse Racing:Andy Don Memorial Novices' Chase
END:VEVENT
END:VCALENDAR
