BEGIN:VCALENDAR
VERSION:2.0
PRODID:-//horsealert.local//NONSGML kigkonsult.se iCalcreator 2.10.5//
CALSCALE:GREGORIAN
X-WR-TIMEZONE:Europe/Dublin
BEGIN:VTIMEZONE
TZID:Etc/GMT-1
BEGIN:STANDARD
DTSTART:20010101T000000
TZOFFSETFROM:+0100
TZOFFSETTO:+0100
TZNAME:GMT +01:00
END:STANDARD
END:VTIMEZONE
BEGIN:VEVENT
UID:20260423T035348CEST-4441xINuLv@horsealert.local
DTSTAMP:20260423T010448Z
CATEGORIES:Horse Alerts
DESCRIPTION:Congratulations George Digweed Winning 26 World Championships H
 andicap Hurdle
DTSTART:20160218T164000
LOCATION:England
SUMMARY:Horse Racing:Congratulations George Digweed Winning 26 World Champi
 onships Handicap Hurdle
END:VEVENT
END:VCALENDAR
