BEGIN:VCALENDAR
VERSION:2.0
PRODID:-//horsealert.local//NONSGML kigkonsult.se iCalcreator 2.10.5//
CALSCALE:GREGORIAN
X-WR-TIMEZONE:Europe/Dublin
BEGIN:VTIMEZONE
TZID:Etc/GMT-1
BEGIN:STANDARD
DTSTART:20010101T000000
TZOFFSETFROM:+0100
TZOFFSETTO:+0100
TZNAME:GMT +01:00
END:STANDARD
END:VTIMEZONE
BEGIN:VEVENT
UID:20260423T021028CEST-8127SS0jCc@horsealert.local
DTSTAMP:20260423T000428Z
CATEGORIES:Horse Alerts
DESCRIPTION:Border Hotel Kirk Yetholm Handicap Chase
DTSTART:20160218T135500
LOCATION:Scotland
SUMMARY:Horse Racing:Border Hotel Kirk Yetholm Handicap Chase
END:VEVENT
END:VCALENDAR
