BEGIN:VCALENDAR
VERSION:2.0
PRODID:-//horsealert.local//NONSGML kigkonsult.se iCalcreator 2.10.5//
CALSCALE:GREGORIAN
X-WR-TIMEZONE:Europe/Dublin
BEGIN:VTIMEZONE
TZID:Etc/GMT-1
BEGIN:STANDARD
DTSTART:20010101T000000
TZOFFSETFROM:+0100
TZOFFSETTO:+0100
TZNAME:GMT +01:00
END:STANDARD
END:VTIMEZONE
BEGIN:VEVENT
UID:20260423T020955CEST-5358vP5o5v@horsealert.local
DTSTAMP:20260423T000455Z
CATEGORIES:Horse Alerts
DESCRIPTION:SkyBet Cheltenham Preview Here March 7th Handicap Hurdle
DTSTART:20160217T142500
LOCATION:England
SUMMARY:Horse Racing:SkyBet Cheltenham Preview Here March 7th Handicap Hurd
 le
END:VEVENT
END:VCALENDAR
