BEGIN:VCALENDAR
VERSION:2.0
PRODID:-//horsealert.local//NONSGML kigkonsult.se iCalcreator 2.10.5//
CALSCALE:GREGORIAN
X-WR-TIMEZONE:Europe/Dublin
BEGIN:VTIMEZONE
TZID:Etc/GMT-1
BEGIN:STANDARD
DTSTART:20010101T000000
TZOFFSETFROM:+0100
TZOFFSETTO:+0100
TZNAME:GMT +01:00
END:STANDARD
END:VTIMEZONE
BEGIN:VEVENT
UID:20260423T020855CEST-6499ZMVB6v@horsealert.local
DTSTAMP:20260423T000455Z
CATEGORIES:Horse Alerts
DESCRIPTION:Bathwick Tyres Veterans' Handicap Chase (Qualifier) (Leg 1 Of T
 he 2016 Veterans' Chase Series)
DTSTART:20160214T154000
LOCATION:England
SUMMARY:Horse Racing:Bathwick Tyres Veterans' Handicap Chase (Qualifier) (L
 eg 1 Of The 2016 Veterans' Chase Series)
END:VEVENT
END:VCALENDAR
