BEGIN:VCALENDAR
VERSION:2.0
PRODID:-//horsealert.local//NONSGML kigkonsult.se iCalcreator 2.10.5//
CALSCALE:GREGORIAN
X-WR-TIMEZONE:Europe/Dublin
BEGIN:VTIMEZONE
TZID:Etc/GMT-1
BEGIN:STANDARD
DTSTART:20010101T000000
TZOFFSETFROM:+0100
TZOFFSETTO:+0100
TZNAME:GMT +01:00
END:STANDARD
END:VTIMEZONE
BEGIN:VEVENT
UID:20260423T020754CEST-9829zTz7hw@horsealert.local
DTSTAMP:20260423T000454Z
CATEGORIES:Horse Alerts
DESCRIPTION:Racing UK In HD Next Month Novices' Limited Handicap Chase
DTSTART:20160212T140500
LOCATION:England
SUMMARY:Horse Racing:Racing UK In HD Next Month Novices' Limited Handicap C
 hase
END:VEVENT
END:VCALENDAR
