BEGIN:VCALENDAR
VERSION:2.0
PRODID:-//horsealert.local//NONSGML kigkonsult.se iCalcreator 2.10.5//
CALSCALE:GREGORIAN
X-WR-TIMEZONE:Europe/Dublin
BEGIN:VTIMEZONE
TZID:Etc/GMT-1
BEGIN:STANDARD
DTSTART:20010101T000000
TZOFFSETFROM:+0100
TZOFFSETTO:+0100
TZNAME:GMT +01:00
END:STANDARD
END:VTIMEZONE
BEGIN:VEVENT
UID:20260423T040058CEST-3311MlhoVb@horsealert.local
DTSTAMP:20260423T020458Z
CATEGORIES:Horse Alerts
DESCRIPTION:racinguk.com Handicap Chase (Qualifier For The Challenger Stayi
 ng Chase Series Final)
DTSTART:20160212T161000
LOCATION:England
SUMMARY:Horse Racing:racinguk.com Handicap Chase (Qualifier For The Challen
 ger Staying Chase Series Final)
END:VEVENT
END:VCALENDAR
